BEGIN:VCALENDAR
VERSION:2.0
PRODID:-//Tamalpa Deutschland e.V. - ECPv6.15.20//NONSGML v1.0//EN
CALSCALE:GREGORIAN
METHOD:PUBLISH
X-WR-CALNAME:Tamalpa Deutschland e.V.
X-ORIGINAL-URL:https://tamalpa.de
X-WR-CALDESC:Veranstaltungen für Tamalpa Deutschland e.V.
REFRESH-INTERVAL;VALUE=DURATION:PT1H
X-Robots-Tag:noindex
X-PUBLISHED-TTL:PT1H
BEGIN:VTIMEZONE
TZID:UTC
BEGIN:STANDARD
TZOFFSETFROM:+0000
TZOFFSETTO:+0000
TZNAME:UTC
DTSTART:20220101T000000
END:STANDARD
END:VTIMEZONE
BEGIN:VEVENT
DTSTART;VALUE=DATE:20230812
DTEND;VALUE=DATE:20230820
DTSTAMP:20260420T163516
CREATED:20230627T201209Z
LAST-MODIFIED:20230628T194051Z
UID:4900-1691798400-1692489599@tamalpa.de
SUMMARY:Urlaub mit Biodanza & Tamalpa Life/Art Process®\, BalFolk & Natur/Räucherritualen
DESCRIPTION:Eine Woche Urlaub mit Tanz/Bewegung in Italien. \nDie Alpe Pianello liegt 940 m über dem Lago Maggiore und ist ein wunderbarer Kraftort zum erholen\, auftanken und abschalten. \nRaum und Zeit für das eigene Sein in der Natur und in der Gemeinschaft mit Biodanza\, BalFolk\, Tamalpa Life/Art-Process®\, Ausflügen zum See und kleinen Wanderungen. \nFlyer Sommerurlaub
URL:https://tamalpa.de/veranstaltung/urlaub-mit-biodanza-tamalpa-life-art-process-balfolk-natur-raeucherritualen
LOCATION:Alpe Pianello\, Via Alpe Pianello 1\, Dumenza\, 21010\, Italien
CATEGORIES:Tamalpa Lehrerinnen
ATTACH;FMTTYPE=image/jpeg:https://tamalpa.de/wp-content/uploads/2023/06/Bild-fuer-Tamalpa-Webseite.jpg
ORGANIZER;CN="Isolde Grenzd%C3%B6rffer":MAILTO:isolde.grenzdoerffer@hj-mayer.de
END:VEVENT
END:VCALENDAR