BEGIN:VCALENDAR
VERSION:2.0
PRODID:-//Tamalpa Deutschland e.V. - ECPv6.15.20//NONSGML v1.0//EN
CALSCALE:GREGORIAN
METHOD:PUBLISH
X-WR-CALNAME:Tamalpa Deutschland e.V.
X-ORIGINAL-URL:https://tamalpa.de
X-WR-CALDESC:Veranstaltungen für Tamalpa Deutschland e.V.
REFRESH-INTERVAL;VALUE=DURATION:PT1H
X-Robots-Tag:noindex
X-PUBLISHED-TTL:PT1H
BEGIN:VTIMEZONE
TZID:UTC
BEGIN:STANDARD
TZOFFSETFROM:+0000
TZOFFSETTO:+0000
TZNAME:UTC
DTSTART:20240101T000000
END:STANDARD
END:VTIMEZONE
BEGIN:VEVENT
DTSTART;TZID=UTC:20251109T140000
DTEND;TZID=UTC:20251109T190000
DTSTAMP:20260420T133106
CREATED:20250925T071727Z
LAST-MODIFIED:20250925T072135Z
UID:5571-1762696800-1762714800@tamalpa.de
SUMMARY:Die Kunst des Friedens - Frieden verkörpern – Tamalpa Workshopreihe. Gemeinsam Frieden erwecken – in Tanz\, Farbe & Kreativität
DESCRIPTION:Was bedeutet Frieden? \nSeitdem ich Mutter bin\, träume ich von einer Welt\, in der alle Kinder in Frieden und Liebe aufwachsen. Doch was bedeutet Frieden wirklich? Entgleitet er uns bei jedem Streit? Wie können wir in Konflikten friedvoll bleiben\, einander sehen\, vergeben\, verstehen? Wie finden wir wieder ins Gleichgewicht – auch im Einklang mit der Erde? Was können wir von Mutter Erde lernen\, die uns Frieden und Ruhe schenkt? Können wir durch innere Arbeit äußeren Frieden schaffen? Was schenkt uns inneren Frieden? Ist es vielleicht das tiefe Eintauchen in unsere Seele\, das Annehmen unserer Gefühle und das Licht\, das wir ins Dunkel bringen? \n Wie können wir Frieden leben? \n  \nTamalpa Life/Art Process® – Frieden verkörpern  \nLasst uns Frieden kreativ erleben und erwecken – durch Tanz\, Malen\, Schreiben\, in Verbindung miteinander. Der Tamalpa Life/Art Process® hilft uns\, Frieden auf tiefster Ebene zu erforschen: in uns selbst\, in unseren Beziehungen und in der Welt. Es braucht keine Vorerfahrung! \n  \nTermine: \nSonntags 14-19 Uhr \n9.11.25 “Was ist Frieden?” \nFrieden und Kampf erforschen: tanzend\, schreibend\, malend \n23.11.25 “Innerer Frieden” \nWann bin ich in Balance/Off-Balance? Mitte finden\, GFK \n18.1.26 “Die Natur als Quelle des Friedens” \nRessourcen der Natur explorieren \n02.02.26 “Frieden-Performance-Spiel” \nSpielen mit Performance-Techniken zum Thema Frieden \nAnmeldung: \nfrauenwerk-hl@kirche-ll.de oder tamalpa.riedemann@posteo.de
URL:https://tamalpa.de/veranstaltung/die-kunst-des-friedens-frieden-verkoerpern-tamalpa-workshopreihe-gemeinsam-frieden-erwecken-in-tanz-farbe-kreativitaet
LOCATION:Ev. Frauenwerk\, Breite Straße 17\, Lübeck\, 23552\, Germany
CATEGORIES:Tamalpa Lehrerinnen
ATTACH;FMTTYPE=image/png:https://tamalpa.de/wp-content/uploads/2025/09/Bildschirmfoto-2025-09-25-um-09.14.29.png
ORGANIZER;CN="Isabell Riedemann":MAILTO:tamalpa.riedemann@posteo.de
END:VEVENT
END:VCALENDAR