BEGIN:VCALENDAR
VERSION:2.0
PRODID:-//Tamalpa Deutschland e.V. - ECPv6.15.20//NONSGML v1.0//EN
CALSCALE:GREGORIAN
METHOD:PUBLISH
X-WR-CALNAME:Tamalpa Deutschland e.V.
X-ORIGINAL-URL:https://tamalpa.de
X-WR-CALDESC:Veranstaltungen für Tamalpa Deutschland e.V.
REFRESH-INTERVAL;VALUE=DURATION:PT1H
X-Robots-Tag:noindex
X-PUBLISHED-TTL:PT1H
BEGIN:VTIMEZONE
TZID:UTC
BEGIN:STANDARD
TZOFFSETFROM:+0000
TZOFFSETTO:+0000
TZNAME:UTC
DTSTART:20230101T000000
END:STANDARD
END:VTIMEZONE
BEGIN:VEVENT
DTSTART;TZID=UTC:20240127T103000
DTEND;TZID=UTC:20240127T170000
DTSTAMP:20260421T115452
CREATED:20240108T133916Z
LAST-MODIFIED:20240108T133916Z
UID:5073-1706351400-1706374800@tamalpa.de
SUMMARY:Ausdrucksmalen und Tanz - Tagesworkshop: Eine kraftvolle Reise zum eigenen Ausdruck
DESCRIPTION:„Ausdrucksmalen ist mehr als nur Malen – es ist das Entdecken unsere Selbstliebe\, unserer Würde\, unseres wahren Kerns.“ \nErika und Aurelia halten einen sicher geschützten\, lebendigen Raum\, indem all unsere Geschichten und Gefühle eingeladen sind\, mit Farben und bloßen Händen auf großen Papieren ausgedrückt und gewandelt zu werden. \nAchtsames Körperlauschen\, Musik und intuitive Bewegung unterstützen uns; das Gemalte möchte getanzt werden. \nAus dem Erlebten heraus\, dann geschöpfte Essenzen in Worte zu fassen und miteinander zu teilen\, schafft heilsame Verbundenheit\, die schließlich wieder zurück in die Welt fließen mag. \n  \nDieser kreative Tag wird zweigegliedert sein. Mittags gehen wir in eine 1\,5-stündige Pause. Hierfür bringe bitte dein eigenes Essen mit\, für Tee und Süßigkeiten wird gesorgt sein. \nJe nach Gusto stehen nah gelegene Restaurants ebenso zur Verfügung. \n  \nWann: \nSamstag\, 27. Januar\, 10:30 – 17:00 Uhr (inkl. 1\,5 Stunden Mittagspause) \nWo: \nim Malatelier in der Erwinstr. 25\, 79102 Freiburg (bei Nixdorf klingeln) \nKurskosten: \n85 € (inkl. Material)\, TeilnehmerInnenzahl max. 6 \nBitte mitbringen: \nKleidung\, in denen du dich gern und gut bewegen kannst. Malkittel und -schuhe stehen für alle bereit. Ebenso Farben\, Papiere zum Malen und Schreiben. \nVeranstalterinnen: \nErika Nixdorf (Ausdrucksmalen) www.ausdrucksmalen-freiburg.de & Aurelia Botsch (Tamalpa\, Tanz & Musik) \nWeitere Infos und Anmeldung: \ninfo@ausdrucksmalen-freiburg.de und +49 (0)157 87299972 \ninfo@art-aurelia.de und +49 (0)176 56 855 831
URL:https://tamalpa.de/veranstaltung/ausdrucksmalen-und-tanz-tagesworkshop-eine-kraftvolle-reise-zum-eigenen-ausdruck
LOCATION:Malatelier\, Erwinstr. 25\, Freiburg i.Br.\, 79102\, Deutschland
CATEGORIES:Tamalpa Lehrerinnen
ATTACH;FMTTYPE=image/png:https://tamalpa.de/wp-content/uploads/2023/11/Bildschirmfoto-2023-11-15-um-21.08.03.png
ORGANIZER;CN="Aurelia Botsch":MAILTO:info@art-aurelia.de
END:VEVENT
END:VCALENDAR