BEGIN:VCALENDAR
VERSION:2.0
PRODID:-//Tamalpa Deutschland e.V. - ECPv6.15.20//NONSGML v1.0//EN
CALSCALE:GREGORIAN
METHOD:PUBLISH
X-ORIGINAL-URL:https://tamalpa.de
X-WR-CALDESC:Veranstaltungen für Tamalpa Deutschland e.V.
REFRESH-INTERVAL;VALUE=DURATION:PT1H
X-Robots-Tag:noindex
X-PUBLISHED-TTL:PT1H
BEGIN:VTIMEZONE
TZID:UTC
BEGIN:STANDARD
TZOFFSETFROM:+0000
TZOFFSETTO:+0000
TZNAME:UTC
DTSTART:20220101T000000
END:STANDARD
END:VTIMEZONE
BEGIN:VEVENT
DTSTART;TZID=UTC:20230501T190000
DTEND;TZID=UTC:20230522T210000
DTSTAMP:20260421T132234
CREATED:20230319T131259Z
LAST-MODIFIED:20230319T164504Z
UID:4833-1682967600-1684789200@tamalpa.de
SUMMARY:Tamalpa Life/Art Process® - Wege zu Dir Selbst
DESCRIPTION:Montags Serie Online zum Kennenlernen und Vertiefen: 4 Termine vom 1. bis 22. Mai 2023\, 19 – 21 Uhr \n\n\n\n\n \n\n\n\n\nLerne das Wechselspiel von Bewegung\, Bildern und Worten kennen\, das den Tamalpa Life/Art Process so einzigartig macht. \nErlebe\, wie Dich Tanz\, Malen und Schreiben mit Dir selbst in Verbindung bringen\, wie Du es allein mit dem Kopf nie denken könntest. \nErfahre\, wie Du durch deinen persönlichen Ausdruck auf allen Ebenen in einen heilsamen Kontakt mit Dir selbst kommen kannst. \nIch biete Dir einen wertfreien Raum\, in dem Du sein kannst wie Du bist. Mit deinen Themen\, so wie sie sind. \nBereite Dir dazu einen Platz vor zum Liegen & Bewegen mit einer Decke und Mal & Schreibsachen in Reichweite. Ölkreiden sind gut geeignet\, es können aber auch andere Farbstifte sein. Du kannst deinen Ausdruck gestalten\, wie es Dir entspricht. \nDie Teilnahme am Kurs kann bei Interesse für die Basisausbildung bei Tamalpa Germany als Einführungskurs genutzt werden. \n\n\n\n\n1.\, 8.\, 15. und 22. Mai 2023: 4 Montage von 19 – 21 Uhr \n\n\n\n\nDie Termine finden online über zoom statt. Bitte sorge im Vorfeld für die technischen Voraussetzungen. \n\n\n\n\nMind. 6\, max. 12 Teilnehmer*innen \n\n\n\n\n\n\n\n\nAnmelden? mail schicken mit Name und Anschrift an iris@vielerlei-art.de \nDu erhältst dann die Bankverbindung und nach Geldeingang den zoom-link \nHerzlich Willkommen!
URL:https://tamalpa.de/veranstaltung/tamalpa-life-art-process-wege-zu-dir-selbst
LOCATION:ONLINE via Zoom
CATEGORIES:Tamalpa Lehrerinnen,TLAP Einführungsseminar
ATTACH;FMTTYPE=image/jpeg:https://tamalpa.de/wp-content/uploads/2023/03/Wege-zu-Dir-Selbst.jpg
ORGANIZER;CN="Iris de Boor":MAILTO:iris@vielerlei-art.de
END:VEVENT
BEGIN:VEVENT
DTSTART;TZID=UTC:20230414T180000
DTEND;TZID=UTC:20230415T130000
DTSTAMP:20260421T132234
CREATED:20230319T112845Z
LAST-MODIFIED:20230319T164526Z
UID:4826-1681495200-1681563600@tamalpa.de
SUMMARY:Tamalpa Life/Art Process® - Wege zu Dir Selbst
DESCRIPTION:Kompakt Kurs Online zum Kennenlernen und Vertiefen \nFreitag\, 14. April\, 18 – 21 Uhr \nSamstag\, 15. April\, 11 – 13 Uhr \n\n\n\n\n \n\n\n\n\nLerne das Wechselspiel von Bewegung\, Bildern und Worten kennen\, das den Tamalpa Life/Art Process so einzigartig macht. \nErlebe\, wie Dich Tanz\, Malen und Schreiben mit Dir selbst in Verbindung bringen\, wie Du es allein mit dem Kopf nie denken könntest. \nErfahre\, wie Du durch deinen persönlichen Ausdruck auf allen Ebenen in einen heilsamen Kontakt mit Dir selbst kommen kannst. \nIch biete Dir einen wertfreien Raum\, in dem Du sein kannst wie Du bist. Mit deinen Themen\, so wie sie sind. \nBereite Dir dazu einen Platz vor zum Liegen & Bewegen mit einer Decke und Mal & Schreibsachen in Reichweite. Ölkreiden sind gut geeignet\, es können aber auch andere Farbstifte sein. Du kannst deinen Ausdruck gestalten\, wie es Dir entspricht. \nDie Teilnahme am Kurs kann bei Interesse für die Basisausbildung bei Tamalpa Germany als Einführungskurs genutzt werden. \n\n\n\n\n\nDie Termine finden online über zoom statt. Bitte sorge im Vorfeld für die technischen Voraussetzungen. \n\n\n\n\nMind. 6\, max. 12 Teilnehmer*innen \n\n\n\n\n\n\n\n\nAnmelden? Mail schicken mit Name und Anschrift an iris@vielerlei-art.de \nDu erhältst dann die Bankverbindung und nach Geldeingang den zoom-link \nHerzlich Willkommen!
URL:https://tamalpa.de/veranstaltung/tamalpa-life-art-process-wege-zu-dir-selbst-mit-iris-de-boor
LOCATION:ONLINE via Zoom
CATEGORIES:Tamalpa Lehrerinnen,TLAP Einführungsseminar
ATTACH;FMTTYPE=image/jpeg:https://tamalpa.de/wp-content/uploads/2023/03/Wege-zu-Dir-Selbst.jpg
ORGANIZER;CN="Iris de Boor":MAILTO:iris@vielerlei-art.de
END:VEVENT
BEGIN:VEVENT
DTSTART;TZID=UTC:20230405T200000
DTEND;TZID=UTC:20230426T220000
DTSTAMP:20260421T132234
CREATED:20230310T141946Z
LAST-MODIFIED:20230319T132108Z
UID:4813-1680724800-1682546400@tamalpa.de
SUMMARY:Ruf der 4 Mondinnen
DESCRIPTION:Tanzend und kreativ mit der transformierenden Kraft des Zyklischen  \n \nDas Leben\, Ausdruck ständiger Veränderung\, scheint voller Geheimnisse und unerwarteter Wandlungen. Wer es vermag\, den stetig wiederkehrenden Phasen von Neubeginn\, Wachstum\, Fülle und Loslassen weise zu folgen\, sei gesegnet. Denn: \n„Die Kunst des Lebens ist die einzig wahre Kunst – und sie zu erlernen\, der womöglich einzig wahre Grund unseres Daseins.“ \nIm Laufe eines 4 Wochen-Zyklus\, angelehnt an die 4 Mondphasen wollen wir auf kreative Weise erforschen\, wie die zyklischen Prinzipen Teil und Ausdruck unseres Lebens sind\, um auch im Alltag dem Fluss des Lebens leicht\, hingebungs- und vertrauensvoll zu folgen. \nBasis für den Kurs werden die Tools des Tamalpa Life/Art Process® sein\, intuitiver Tanz\, Malen und kreatives Schreiben. Achtsame Körperarbeit\, in Anlehnung an das Movement Ritual® sowie der wertfreie Spiegel innerhalb der Gruppe unterstützen uns dabei. \nSo werden wir auf ganzheitliche\, zugleich spielerische Weise unserer innewohnenden Körperweisheit Ausdruck verleihen\, um sie im Sinne persönlichen Wachstums und kollektiver Heilung zu bewegen und zu transformieren. \n4 Mittwoch-Abende im April\, jeweils 20:00 – 21:45 Uhr: \n05. April: Beginnend an Vollmond\, aus der Fülle und der strahlenden Yang Energie schöpfend\, wollen wir tanzend erahnen\, wo jetzt das Leben nach vollem Potenzial ruft. \n12. April: Die dann abnehmende Halbmondin\, im Sinnbilde des Ausatmens stellt uns symbolisch die Frage: Was mag losgelassen werden\, was bedarf der Klärung? Im Tanz sowie im Leben? \n19. April: Zur dunklen Neumondin\, in Unterstützung warmer Yin Energie\, finden wir tanzend zu Neuorientierung. Neue Ausrichtung\, die manifestiert\, und neue Samen\, die gesäht werden mögen. \n26. April: Schließlich lädt der zunehmende Halbmond all das ein\, was jetzt im Tanz und Leben genährt\, gewässert und gestärkt werden will. Wachstum steht an\, bis hin zur nächsten Fülle. \nDieser Kurszyklus\, der als Einführungsseminar für die Tamalpa Basisausbildung Level 1 in Freiburg (D) genutzt werden kann\, erfordert keinerlei spezifische Vorkenntnisse. \nInfos und Anmeldung unter info@art-aurelia.de
URL:https://tamalpa.de/veranstaltung/ruf-der-4-mondinnen
LOCATION:ONLINE via Zoom
CATEGORIES:Tamalpa Lehrerinnen,TLAP Einführungsseminar
ATTACH;FMTTYPE=image/jpeg:https://tamalpa.de/wp-content/uploads/2023/03/4Mondinnen-scaled.jpg
ORGANIZER;CN="Aurelia Botsch":MAILTO:info@art-aurelia.de
END:VEVENT
END:VCALENDAR