BEGIN:VCALENDAR
VERSION:2.0
PRODID:-//Tamalpa Deutschland e.V. - ECPv6.15.20//NONSGML v1.0//EN
CALSCALE:GREGORIAN
METHOD:PUBLISH
X-WR-CALNAME:Tamalpa Deutschland e.V.
X-ORIGINAL-URL:https://tamalpa.de
X-WR-CALDESC:Veranstaltungen für Tamalpa Deutschland e.V.
REFRESH-INTERVAL;VALUE=DURATION:PT1H
X-Robots-Tag:noindex
X-PUBLISHED-TTL:PT1H
BEGIN:VTIMEZONE
TZID:UTC
BEGIN:STANDARD
TZOFFSETFROM:+0000
TZOFFSETTO:+0000
TZNAME:UTC
DTSTART:20230101T000000
END:STANDARD
END:VTIMEZONE
BEGIN:VEVENT
DTSTART;VALUE=DATE:20240921
DTEND;VALUE=DATE:20240923
DTSTAMP:20260420T115838
CREATED:20240108T132022Z
LAST-MODIFIED:20240108T132022Z
UID:5067-1726876800-1727049599@tamalpa.de
SUMMARY:"Dancing my way"
DESCRIPTION:„Dancing my way“:  Tanzt Du mit dem Leben?  Gehst du\, wohin Du möchtest?\nDie Einladung: Wege tanzend erleben\, die Vielfalt des Körpers ausdrücken\, sich wahrhaftig begegnen und authentisch sein. \nGäste zum Vortrag (Samstag 17:30 – 18:30 ) willkommen! \n  \nAlle weiteren Infos hier: \n\nDancing my way in Wien
URL:https://tamalpa.de/veranstaltung/dancing-my-way
LOCATION:Yoagazentrum Tanja Odehnal\, Alser Straße 26/III\, Wien\, 1090\, Österreich
CATEGORIES:Tamalpa Lehrerinnen,TLAP Einführungsseminar
ATTACH;FMTTYPE=image/jpeg:https://tamalpa.de/wp-content/uploads/2024/01/Dancing-mywaySept24-scaled.jpg
END:VEVENT
END:VCALENDAR